BEGIN:VCALENDAR
VERSION:2.0
PRODID:-//Modellflugverein Leipzig-Holzhausen e.V. - ECPv6.15.20//NONSGML v1.0//EN
CALSCALE:GREGORIAN
METHOD:PUBLISH
X-ORIGINAL-URL:https://mfv-holzhausen.de
X-WR-CALDESC:Veranstaltungen für Modellflugverein Leipzig-Holzhausen e.V.
REFRESH-INTERVAL;VALUE=DURATION:PT1H
X-Robots-Tag:noindex
X-PUBLISHED-TTL:PT1H
BEGIN:VTIMEZONE
TZID:Europe/Berlin
BEGIN:DAYLIGHT
TZOFFSETFROM:+0100
TZOFFSETTO:+0200
TZNAME:CEST
DTSTART:20230326T010000
END:DAYLIGHT
BEGIN:STANDARD
TZOFFSETFROM:+0200
TZOFFSETTO:+0100
TZNAME:CET
DTSTART:20231029T010000
END:STANDARD
BEGIN:DAYLIGHT
TZOFFSETFROM:+0100
TZOFFSETTO:+0200
TZNAME:CEST
DTSTART:20240331T010000
END:DAYLIGHT
BEGIN:STANDARD
TZOFFSETFROM:+0200
TZOFFSETTO:+0100
TZNAME:CET
DTSTART:20241027T010000
END:STANDARD
BEGIN:DAYLIGHT
TZOFFSETFROM:+0100
TZOFFSETTO:+0200
TZNAME:CEST
DTSTART:20250330T010000
END:DAYLIGHT
BEGIN:STANDARD
TZOFFSETFROM:+0200
TZOFFSETTO:+0100
TZNAME:CET
DTSTART:20251026T010000
END:STANDARD
BEGIN:DAYLIGHT
TZOFFSETFROM:+0100
TZOFFSETTO:+0200
TZNAME:CEST
DTSTART:20260329T010000
END:DAYLIGHT
BEGIN:STANDARD
TZOFFSETFROM:+0200
TZOFFSETTO:+0100
TZNAME:CET
DTSTART:20261025T010000
END:STANDARD
BEGIN:DAYLIGHT
TZOFFSETFROM:+0100
TZOFFSETTO:+0200
TZNAME:CEST
DTSTART:20270328T010000
END:DAYLIGHT
BEGIN:STANDARD
TZOFFSETFROM:+0200
TZOFFSETTO:+0100
TZNAME:CET
DTSTART:20271031T010000
END:STANDARD
END:VTIMEZONE
BEGIN:VEVENT
DTSTART;TZID=Europe/Berlin:20260418T100000
DTEND;TZID=Europe/Berlin:20260418T140000
DTSTAMP:20260419T144322
CREATED:20260117T133411Z
LAST-MODIFIED:20260214T212809Z
UID:2497-1776506400-1776520800@mfv-holzhausen.de
SUMMARY:Frühjahrseinsatz 2026
DESCRIPTION:Schwer­punkt:– In­stand­hal­tung des Plat­zes– Rei­ni­gung der Ti­sche not­wen­dig– Ra­sen­kan­ten– Lö­cher stop­fen
URL:https://mfv-holzhausen.de/termin/fruehjahrseinsatz-2026/
LOCATION:MFV-Leipzig Holzhausen e.V.\, Breiteweg 51\, Leipzig-Holzhausen\, Sachsen\, 04288\, Deutschland
END:VEVENT
BEGIN:VEVENT
DTSTART;TZID=Europe/Berlin:20260307T130000
DTEND;TZID=Europe/Berlin:20260307T150000
DTSTAMP:20260419T144322
CREATED:20260117T133018Z
LAST-MODIFIED:20260117T133214Z
UID:2488-1772888400-1772895600@mfv-holzhausen.de
SUMMARY:Mitgliederversammlung 2026 – nicht öffentlich
DESCRIPTION:Auch die­ses Mal be­steht die Mög­lich­keit\, ab 12:00 Uhr im Lo­kal et­was zu es­sen. Da­mit wir pünkt­lich mit der Ver­samm­lung be­gin­nen kön­nen und der Koch Ge­le­gen­heit hat\, alle Spei­sen zu­zu­be­rei­ten\, er­scheint bit­te recht­zei­tig. Weil wir kei­ne Raum­mie­te zah­len\, wür­de sich der Wirt freu­en\, mög­lichst vie­le von uns als Es­sens­gäs­te be­grü­ßen zu kön­nen.  \n\n\n\nVor­läu­fi­ge Ta­ges­ord­nung: \n\n\n\n· Be­richt des Vor­stan­des 2025· Be­richt der Kas­sen­prü­fer· Ent­las­tung des Vor­stan­des· Wahl des neu­en Schatz­meis­ters (Son­der­wahl)· Aus­blick auf das Jahr 2026· Be­spre­chung der Ar­bei­ten für die Ar­beits­ein­sät­ze· Sons­ti­ges
URL:https://mfv-holzhausen.de/termin/mitgliederversammlung-2025-nicht-oeffentlich-2/
LOCATION:Gaststätte Volkshain Stünz\, Stünz-Mölkauer Weg 46b\, 04318 Leipzig\, Leipzig\, Sachsen\, 04318\, Germany
END:VEVENT
BEGIN:VEVENT
DTSTART;TZID=Europe/Berlin:20251011T100000
DTEND;TZID=Europe/Berlin:20251011T140000
DTSTAMP:20260419T144322
CREATED:20250221T160533Z
LAST-MODIFIED:20250720T184745Z
UID:2402-1760176800-1760191200@mfv-holzhausen.de
SUMMARY:Herbstarbeitseinsatz 2025
DESCRIPTION:In­fos was an­fällt folgt recht­zei­tig
URL:https://mfv-holzhausen.de/termin/herbstarbeitseinsatz-2025/
LOCATION:MFV-Leipzig Holzhausen e.V.\, Breiteweg 51\, Leipzig-Holzhausen\, Sachsen\, 04288\, Deutschland
END:VEVENT
BEGIN:VEVENT
DTSTART;TZID=Europe/Berlin:20250920T100000
DTEND;TZID=Europe/Berlin:20250920T140000
DTSTAMP:20260419T144322
CREATED:20250221T160327Z
LAST-MODIFIED:20250221T160327Z
UID:2398-1758362400-1758376800@mfv-holzhausen.de
SUMMARY:Internes Vereinsfest für Mitglieder
DESCRIPTION:Un­ser in­ter­nes Ver­eins­fest nur für un­se­re Mit­glie­der. Zu­schau­er sind na­tür­lich je­der­zeit recht herz­lich will­kom­men.
URL:https://mfv-holzhausen.de/termin/internes-vereinsfest-fuer-mitglieder/
LOCATION:MFV-Leipzig Holzhausen e.V.\, Breiteweg 51\, Leipzig-Holzhausen\, Sachsen\, 04288\, Deutschland
END:VEVENT
BEGIN:VEVENT
DTSTART;TZID=Europe/Berlin:20250905T100000
DTEND;TZID=Europe/Berlin:20250907T170000
DTSTAMP:20260419T144322
CREATED:20250902T163621Z
LAST-MODIFIED:20250902T164158Z
UID:2475-1757066400-1757264400@mfv-holzhausen.de
SUMMARY:Volksfest Holzhausen 2025
DESCRIPTION:Am Sams­tag las­sen wir zwi­schen 14 und 16 Uhr ei­ni­ge un­se­rer Mo­del­le in die Luft stei­gen. Grö­ße­re Mo­del­le ste­hen zur Be­sich­ti­gung be­reit und la­den zum Stau­nen ein – Neu­gier aus­drück­lich er­wünscht 😉
URL:https://mfv-holzhausen.de/termin/volksfest-holzhausen-2/
LOCATION:Holzhausen Sportplatz\, Arthur-Polenz Straße\, Leipzig\, Sachsen\, 04288\, Deutschland
END:VEVENT
BEGIN:VEVENT
DTSTART;TZID=Europe/Berlin:20250705T100000
DTEND;TZID=Europe/Berlin:20250706T170000
DTSTAMP:20260419T144322
CREATED:20250625T151823Z
LAST-MODIFIED:20250625T151823Z
UID:2459-1751709600-1751821200@mfv-holzhausen.de
SUMMARY:Freundschaftsfliegen 2025 MFV Leipzig-Taucha e.V.
DESCRIPTION:Wir la­den Euch recht herz­lich am 05.–06. Juli 2025 auf un­se­ren Mo­dell­flug­platz “Schwar­zer Berg” ein. \n\n\n\nAn­rei­se kann ab Frei­tag\, den  04.07.2025 er­fol­gen. Bit­te mel­det Euch vor­her an\, be­son­ders wer mit Wohn­wa­gen kommt. \n\n\n\nAn­mel­dung bit­te form­los an die Email: info@mfv-taucha.de oder an die Han­dynr. 0173 8058308.
URL:https://mfv-holzhausen.de/termin/freundschaftsfliegen-2025-mfv-leipzig-taucha-e-v/
LOCATION:MFV-Leipzig-Taucha e.V.\, Schwarzer Berg\, Taucha\, Sachsen\, 04425\, Deutschland
END:VEVENT
BEGIN:VEVENT
DTSTART;TZID=Europe/Berlin:20250621T100000
DTEND;TZID=Europe/Berlin:20250621T170000
DTSTAMP:20260419T144322
CREATED:20250221T160124Z
LAST-MODIFIED:20250221T160125Z
UID:2394-1750500000-1750525200@mfv-holzhausen.de
SUMMARY:Modellflugtag 2025
DESCRIPTION:Mo­dell­flug­schau für Je­der­mann. Wir prä­sen­tie­ren Flug­mo­del­le von klein bis groß\, von Se­gel­flie­ger bis­hin zu gro­ßen Ver­bren­ner­flug­zeu­gen\, aber auch He­li­c­op­ter in al­len mög­li­chen Grö­ßen.  \n\n\n\nSchnup­per­flie­gen ist un­be­dingt er­wünscht\, d.h. auch du kannst gern ein Flug­mo­dell pro­be­steu­ern!  \n\n\n\nPi­lo­ten aus an­de­ren Ver­ei­nen und In­ter­es­sen­ten des Mo­dell­flu­ges\, sind recht herz­lich ein­ge­la­den.
URL:https://mfv-holzhausen.de/termin/modellflugtag-2025/
LOCATION:MFV-Leipzig Holzhausen e.V.\, Breiteweg 51\, Leipzig-Holzhausen\, Sachsen\, 04288\, Deutschland
END:VEVENT
BEGIN:VEVENT
DTSTART;TZID=Europe/Berlin:20250517T140000
DTEND;TZID=Europe/Berlin:20250517T180000
DTSTAMP:20260419T144322
CREATED:20250108T204043Z
LAST-MODIFIED:20250108T204220Z
UID:2290-1747490400-1747504800@mfv-holzhausen.de
SUMMARY:Berggut- Fest in Holzhausen
DESCRIPTION:Der Hei­mat­ver­ein Holz­hau­sen ver­an­stal­tet sein Berg­gut-Fest durch un­ter dem Mot­to “Sport für jung und alt”. Wir wer­den un­se­ren Ver­ein mit ein paar Flug­mo­del­len vor­stel­len!
URL:https://mfv-holzhausen.de/termin/berggut-fest-in-holzhausen/
LOCATION:Zuckelhausener Ring 17 04288 Leipzig\, Zuckelhausener Ring 17\, Leipzig\, 04288\, Germany
END:VEVENT
BEGIN:VEVENT
DTSTART;TZID=Europe/Berlin:20250517T080000
DTEND;TZID=Europe/Berlin:20250517T170000
DTSTAMP:20260419T144322
CREATED:20250326T191109Z
LAST-MODIFIED:20250326T191110Z
UID:2409-1747468800-1747501200@mfv-holzhausen.de
SUMMARY:4.Helitag Beim MFC-Leipzig-Süd e.V.
DESCRIPTION:Mo­dell­flie­ger­freun­de\, \n\n\n\nich bin Mit­glied beim https://www.mfc-leipzig.de/ und wir ha­ben ein klei­nes Tref­fen für He­li­flie­ger ins Le­ben ge­ru­fen. \n\n\n\nDie­ses Jahr fin­det un­se­rer 4.Helitag statt. \n\n\n\nDer Ter­min ist der 17.05.2025 \n\n\n\nEin Tref­fen für An­fän­ger und Fort­ge­schrit­te­ne zum Flie­gen\, Fach­sim­peln und Spaß ha­ben; \n\n\n\nwei­te­re In­fos fin­den Sie auf dem Fly­er im An­hang.
URL:https://mfv-holzhausen.de/termin/4-helitag-beim-mfc-leipzig-sued-e-v/
END:VEVENT
BEGIN:VEVENT
DTSTART;TZID=Europe/Berlin:20250427T100000
DTEND;TZID=Europe/Berlin:20250427T170000
DTSTAMP:20260419T144322
CREATED:20250211T090256Z
LAST-MODIFIED:20250211T121901Z
UID:2381-1745748000-1745773200@mfv-holzhausen.de
SUMMARY:Flugschau Reinholdshain
DESCRIPTION:Lie­be Flug­mo­dell­sport­freun­de\, \n\n\n\nwir sind der Mei­nung\, dass wir un­ser schö­nes Hob­by in der Öf­fent­lich­keit prä­sen­tie­ren soll­ten. Je­der weiß\, dass wir zu­neh­mend Pro­ble­me ha­ben un­se­re Mo­dell­flug­plät­ze zu er­hal­ten. Wind­kraft­an­la­gen\, Lärm­pro­ble­me und vie­les mehr ma­chen uns al­len Sor­gen\, nicht zu­letzt fehlt es an Nach­wuchs in den Ver­ei­nen. \n\n\n\n\n\n\n\nAus die­sen Grün­den sind wir der Mei­nung\, dass ein Pi­lo­ten­tref­fen da­für nicht aus­reicht. \n\n\n\nNach dem gro­ßen Er­folg im Jahr 2024\, mit fast 2000 Zu­schau­ern\, zu­frie­de­nen  Gäs­ten und zu­frie­den Pi­lo­ten füh­len wir uns ver­pflich­tet den ein­ge­schla­ge­nen Weg wei­ter zu ge­hen. \n\n\n\n„ Ja wir be­rei­ten un­se­re Flug­schau an un­se­rem alt­be­währ­ten Ter­min vom \n\n\n\n26.4–27.4 2025“ auf un­se­rem Ver­eins­ge­län­de vor. \n\n\n\nHier­mit möch­ten wir euch recht herz­lich dazu ein­la­den. \n\n\n\nBit­te un­ter­stützt uns bei un­se­rem Vor­ha­ben rege\, wir sind auf das Kom­men vie­ler Pi­lo­ten mit wun­der­schö­nen Mo­del­len an­ge­wie­sen. \n\n\n\nWir freu­en uns dar­auf\, bei hof­fent­lich gu­tem Wet­ter ge­mein­sam ein ent­spann­tes Wo­chen­en­de mit viel Spaß\, vie­len Flü­gen und in­ter­es­san­ten Ge­sprä­chen zu ge­nie­ßen. \n\n\n\nIm An­hang fin­det ihr noch ei­nen Fly­er\, den ihr gern mit der Ein­la­dung in eu­rer Ver­eins­hüt­te aus­hän­gen könnt. Es wäre schön wenn ihr die­se Ein­la­dung an an­de­re Mo­dell­flie­ger wei­ter lei­den könn­tet.  
URL:https://mfv-holzhausen.de/termin/flugschau-reinholdshain/
LOCATION:MFC Reinholdshain e.V.\, Reinhardsgrimmaer Straße\, Reinholdshain\, Sachsen\, 01744
END:VEVENT
BEGIN:VEVENT
DTSTART;TZID=Europe/Berlin:20250322T100000
DTEND;TZID=Europe/Berlin:20250322T140000
DTSTAMP:20260419T144322
CREATED:20250221T155432Z
LAST-MODIFIED:20250223T140327Z
UID:2389-1742637600-1742652000@mfv-holzhausen.de
SUMMARY:Frühjahrseinsatz 2025
DESCRIPTION:Schwer­punkt:- In­stand­hal­tung des Plat­zes- Wal­zen und Ver­ti­ku­tie­ren des Flug­plat­zes- Rei­ni­gung der Ti­sche not­wen­dig- Ra­sen­kan­ten- Lö­cher stop­fen
URL:https://mfv-holzhausen.de/termin/fruehjahrseinsatz-2025/
LOCATION:MFV-Leipzig Holzhausen e.V.\, Breiteweg 51\, Leipzig-Holzhausen\, Sachsen\, 04288\, Deutschland
END:VEVENT
BEGIN:VEVENT
DTSTART;TZID=Europe/Berlin:20250208T130000
DTEND;TZID=Europe/Berlin:20250208T150000
DTSTAMP:20260419T144322
CREATED:20241130T155950Z
LAST-MODIFIED:20241130T162225Z
UID:2059-1739019600-1739026800@mfv-holzhausen.de
SUMMARY:Mitgliederversammlung 2025 - nicht öffentlich
DESCRIPTION:Auch die­ses Mal be­steht die Mög­lich­keit\, ab 12:00 Uhr im Lo­kal et­was zu es­sen. \n\n\n\nDa­mit wir pünkt­lich mit der Ver­samm­lung be­gin­nen kön­nen und der Koch Ge­le­gen­heit hat\, alle Spei­sen zu­zu­be­rei­ten\, er­scheint bit­te recht­zei­tig. Weil wir kei­ne Raum­mie­te zah­len\, wür­de sich der Wirt freu­en\, mög­lichst vie­le von uns als Es­sens­gäs­te be­grü­ßen zu kön­nen.
URL:https://mfv-holzhausen.de/termin/mitgliederversammlung-2025-nicht-oeffentlich/
LOCATION:Gaststätte Volkshain Stünz\, Stünz-Mölkauer Weg 46b\, 04318 Leipzig\, Leipzig\, Sachsen\, 04318\, Germany
END:VEVENT
BEGIN:VEVENT
DTSTART;TZID=Europe/Berlin:20250101T110000
DTEND;TZID=Europe/Berlin:20250101T160000
DTSTAMP:20260419T144322
CREATED:20241201T172913Z
LAST-MODIFIED:20241231T142218Z
UID:2099-1735729200-1735747200@mfv-holzhausen.de
SUMMARY:Neujahresfliegen (fällt wetterbedingt aus)
DESCRIPTION:fällt lei­der wet­ter­be­dingt aus
URL:https://mfv-holzhausen.de/termin/neujahresfliegen/
LOCATION:MFV-Leipzig Holzhausen e.V.\, Breiteweg 51\, Leipzig-Holzhausen\, Sachsen\, 04288\, Deutschland
END:VEVENT
BEGIN:VEVENT
DTSTART;TZID=Europe/Berlin:20241208T110000
DTEND;TZID=Europe/Berlin:20241208T160000
DTSTAMP:20260419T144322
CREATED:20241201T172428Z
LAST-MODIFIED:20241201T172829Z
UID:2089-1733655600-1733673600@mfv-holzhausen.de
SUMMARY:2. Adventsfliegen
DESCRIPTION:Bei halb­wegs schö­nem Wet­ter tref­fen wir uns ab 11 Uhr zum Ad­vents­flie­gen.
URL:https://mfv-holzhausen.de/termin/2-adventsfliegen/
LOCATION:MFV-Leipzig Holzhausen e.V.\, Breiteweg 51\, Leipzig-Holzhausen\, Sachsen\, 04288\, Deutschland
END:VEVENT
BEGIN:VEVENT
DTSTART;TZID=Europe/Berlin:20241019T100000
DTEND;TZID=Europe/Berlin:20241019T140000
DTSTAMP:20260419T144322
CREATED:20240316T144959Z
LAST-MODIFIED:20240316T145232Z
UID:1853-1729332000-1729346400@mfv-holzhausen.de
SUMMARY:Herbsteinsatz
DESCRIPTION:.. In­fos fol­gen
URL:https://mfv-holzhausen.de/termin/herbsteinsatz/
LOCATION:MFV-Leipzig Holzhausen e.V.\, Breiteweg 51\, Leipzig-Holzhausen\, Sachsen\, 04288\, Deutschland
END:VEVENT
BEGIN:VEVENT
DTSTART;TZID=Europe/Berlin:20240921T100000
DTEND;TZID=Europe/Berlin:20240921T170000
DTSTAMP:20260419T144322
CREATED:20240913T085829Z
LAST-MODIFIED:20240913T085830Z
UID:1953-1726912800-1726938000@mfv-holzhausen.de
SUMMARY:Neuer Termin Internes Vereinsfest
DESCRIPTION:Vereinsfest/Flugtag für un­se­re Mit­glie­der. Be­su­cher sind je­der­zeit will­kom­men.
URL:https://mfv-holzhausen.de/termin/neuer-termin-internes-vereinsfest/
LOCATION:MFV-Leipzig Holzhausen e.V.\, Breiteweg 51\, Leipzig-Holzhausen\, Sachsen\, 04288\, Deutschland
END:VEVENT
BEGIN:VEVENT
DTSTART;TZID=Europe/Berlin:20240914T100000
DTEND;TZID=Europe/Berlin:20240914T170000
DTSTAMP:20260419T144322
CREATED:20240211T135934Z
LAST-MODIFIED:20240913T122952Z
UID:650-1726308000-1726333200@mfv-holzhausen.de
SUMMARY:Internes Vereinsfest (fällt wetterbedingt aus)
DESCRIPTION:
URL:https://mfv-holzhausen.de/termin/internes-vereinsfest/
LOCATION:MFV-Leipzig Holzhausen e.V.\, Breiteweg 51\, Leipzig-Holzhausen\, Sachsen\, 04288\, Deutschland
END:VEVENT
BEGIN:VEVENT
DTSTART;TZID=Europe/Berlin:20240906T080000
DTEND;TZID=Europe/Berlin:20240908T170000
DTSTAMP:20260419T144322
CREATED:20240211T135625Z
LAST-MODIFIED:20250902T163756Z
UID:643-1725609600-1725814800@mfv-holzhausen.de
SUMMARY:Volksfest Holzhausen 2024
DESCRIPTION:
URL:https://mfv-holzhausen.de/termin/volksfest-holzhausen/
LOCATION:Holzhausen Sportplatz\, Arthur-Polenz Straße\, Leipzig\, Sachsen\, 04288\, Deutschland
END:VEVENT
BEGIN:VEVENT
DTSTART;TZID=Europe/Berlin:20240830T130000
DTEND;TZID=Europe/Berlin:20240901T170000
DTSTAMP:20260419T144322
CREATED:20240316T145918Z
LAST-MODIFIED:20240316T150000Z
UID:1861-1725022800-1725210000@mfv-holzhausen.de
SUMMARY:700 Jahre Mölkau (1324 - 2024)
DESCRIPTION:Vie­le ver­schie­de­ne Ver­an­stal­tun­gen und Events er­war­ten uns im Ju­bi­lä­ums­jahr 2024.\, \n\n\n\nEs lohnt da­her im­mer wie­der der Blick hier­hin. \n\n\n\nEr­fah­ren Sie au­ßer­dem al­les Wei­te­re rund um das dies­jäh­ri­ge Ju­bi­lä­um 700 Jah­re Möl­kau.
URL:https://mfv-holzhausen.de/termin/1861/
LOCATION:Stadtgut Mölkau\, Stadtgut Mölkau\, Leipzig Mölkau\, Sachsen\, 04316\, Deutschland
END:VEVENT
BEGIN:VEVENT
DTSTART;TZID=Europe/Berlin:20240801T160000
DTEND;TZID=Europe/Berlin:20240804T140000
DTSTAMP:20260419T144322
CREATED:20240729T201535Z
LAST-MODIFIED:20240729T201535Z
UID:1942-1722528000-1722780000@mfv-holzhausen.de
SUMMARY:Flugplatzfest in Werben
DESCRIPTION:Am ers­ten Au­gust Wo­chen­en­de ha­ben wir wie­der un­ser Flug­platz Fest. Also Freitag/Samstag den gan­zen Tag am Sonn­tag Vor­mit­tags.
URL:https://mfv-holzhausen.de/termin/flugplatzfest-in-werben/
LOCATION:Modellflieger Werben e.V.\, Sohestener Weg\, Werben\, Werben\, 04523\, Deutschland
END:VEVENT
BEGIN:VEVENT
DTSTART;TZID=Europe/Berlin:20240706T100000
DTEND;TZID=Europe/Berlin:20240707T170000
DTSTAMP:20260419T144322
CREATED:20240527T171415Z
LAST-MODIFIED:20240527T171416Z
UID:1920-1720260000-1720371600@mfv-holzhausen.de
SUMMARY:Freundschaftsfliegen MFV Taucha
DESCRIPTION:Zum Freund­schafts­flie­gen am 06.Juli.-07.Juli.2024 sind die be­nach­bar­ten Ver­ei­ne und die Mo­dell­flie­ger des AMD recht herz­lich ein­ge­la­den.  \n\n\n\nAn­rei­se und Cam­ping ist ab Frei­tag\, den 05.07. 2024 mög­lich .  \n\n\n\nEs kann Sonn­abend und Sonn­tag je­weils von 10:00 Uhr bis Son­nen­un­ter­gang ge­flo­gen wer­den.  60x8 Me­ter Asphalt­pis­te und eine lan­ge Gras­pis­te sind vor­han­den. Es kön­nen Mo­del­le bis 25 Kg ge­flo­gen wer­den.  Ob Elek­tro\, Ver­bren­ner oder Tur­bi­nen An­trieb\, al­les ist mög­lich. für Seg­ler ha­ben ist  auch eine Win­de vor­han­den !!! 
URL:https://mfv-holzhausen.de/termin/freundschaftsfliegen-mfv-taucha/
LOCATION:MFV-Leipzig-Taucha e.V.\, Schwarzer Berg\, Taucha\, Sachsen\, 04425\, Deutschland
END:VEVENT
BEGIN:VEVENT
DTSTART;TZID=Europe/Berlin:20240622T100000
DTEND;TZID=Europe/Berlin:20240622T170000
DTSTAMP:20260419T144322
CREATED:20240211T132816Z
LAST-MODIFIED:20240303T090127Z
UID:624-1719050400-1719075600@mfv-holzhausen.de
SUMMARY:Unser Modellflugtag 2024
DESCRIPTION:
URL:https://mfv-holzhausen.de/termin/externes-vereinsfest/
LOCATION:MFV-Leipzig Holzhausen e.V.\, Breiteweg 51\, Leipzig-Holzhausen\, Sachsen\, 04288\, Deutschland
END:VEVENT
BEGIN:VEVENT
DTSTART;TZID=Europe/Berlin:20240615T100000
DTEND;TZID=Europe/Berlin:20240615T170000
DTSTAMP:20260419T144322
CREATED:20240513T184423Z
LAST-MODIFIED:20240530T174111Z
UID:1915-1718445600-1718470800@mfv-holzhausen.de
SUMMARY:Großseglertreffen MFC Leipzig-Süd
DESCRIPTION:
URL:https://mfv-holzhausen.de/termin/grossseglertreffen-mfc-leipzig-sued/
LOCATION:MFC Leipzig-Süd e.V.\, Großspösna\, Sachsen\, 04463\, Deutschland
END:VEVENT
BEGIN:VEVENT
DTSTART;TZID=Europe/Berlin:20240518T100000
DTEND;TZID=Europe/Berlin:20240518T170000
DTSTAMP:20260419T144322
CREATED:20240218T212719Z
LAST-MODIFIED:20240303T092923Z
UID:1538-1716026400-1716051600@mfv-holzhausen.de
SUMMARY:3. Helitag beim MFC-Leipzig-Süd e.V.
DESCRIPTION:Ein Tref­fen für An­fän­ger und Fort­ge­schrit­te­ne zum Flie­gen\, Fach­sim­peln und Spaß ha­ben.
URL:https://mfv-holzhausen.de/termin/3-helitag/
LOCATION:MFC Leipzig-Süd e.V.\, Großspösna\, Sachsen\, 04463\, Deutschland
END:VEVENT
BEGIN:VEVENT
DTSTART;TZID=Europe/Berlin:20240427T100000
DTEND;TZID=Europe/Berlin:20240428T170000
DTSTAMP:20260419T144322
CREATED:20240218T214206Z
LAST-MODIFIED:20240316T150907Z
UID:1556-1714212000-1714323600@mfv-holzhausen.de
SUMMARY:Flugschau Reinholdshain 2024
DESCRIPTION:Wir möch­ten gern ein brei­tes Spek­trum von un­se­rem Hob­by zei­gen\, vom Old­ti­mer bis zum Jet vom Fes­sel­flug­mo­dell bis zum Sc­al­e­mo­dell\, ob klein oder groß\, wir freu­en uns über je­des Mo­dell. Un­ser Platz hat eine Zu­las­sung bis 25Kg. Die Flug­schau be­ginnt je­weils 10 Uhr.
URL:https://mfv-holzhausen.de/termin/flugschau-reinholdshain-2024/
LOCATION:MFC Reinholdshain e.V.\, Reinhardsgrimmaer Straße\, Reinholdshain\, Sachsen\, 01744
END:VEVENT
BEGIN:VEVENT
DTSTART;TZID=Europe/Berlin:20240420T100000
DTEND;TZID=Europe/Berlin:20240420T140000
DTSTAMP:20260419T144322
CREATED:20240316T144548Z
LAST-MODIFIED:20250221T155246Z
UID:1844-1713607200-1713621600@mfv-holzhausen.de
SUMMARY:Frühjahrseinsatz 2024
DESCRIPTION:Schwer­punkt: Fun­da­ment Con­tai­ner\, In­stand­hal­tung des Plat­zes\, Gras aus­sä­hen an den be­ar­bei­te­ten Flä­chen. Wal­zen und Ver­ti­ku­tie­ren des Flug­plat­zes.
URL:https://mfv-holzhausen.de/termin/fruehjahrseinsatz/
LOCATION:MFV-Leipzig Holzhausen e.V.\, Breiteweg 51\, Leipzig-Holzhausen\, Sachsen\, 04288\, Deutschland
END:VEVENT
BEGIN:VEVENT
DTSTART;TZID=Europe/Berlin:20240316T120000
DTEND;TZID=Europe/Berlin:20240316T140000
DTSTAMP:20260419T144322
CREATED:20240211T110021Z
LAST-MODIFIED:20241130T162236Z
UID:622-1710590400-1710597600@mfv-holzhausen.de
SUMMARY:Mitgliederversammlung 2024 - nicht öffentlich
DESCRIPTION:Ort: sie­he Ein­la­dung
URL:https://mfv-holzhausen.de/termin/mitgliederversammlung-2024/
LOCATION:MFV-Leipzig Holzhausen e.V.\, Breiteweg 51\, Leipzig-Holzhausen\, Sachsen\, 04288\, Deutschland
END:VEVENT
END:VCALENDAR